BEGIN:VCALENDAR
VERSION:2.0
PRODID:-//eventon.com NONSGML v1.0//EN
CALSCALE:GREGORIAN
METHOD:PUBLISH
BEGIN:VEVENT
UID:69ea3a8547b81
DTSTAMP:20260423T152805Z
DTSTART:20220908
DTEND:20220909
LOCATION:
SUMMARY:Raúl H. Castro Academy of Fine Arts (Phoenix\,  AZ)
DESCRIPTION:Raúl H. Castro Academy of Fine Arts (Phoenix\,  AZ)\nhttps://c
 hasingchildhooddoc.com/events/raul-h-castro-academy-of-fine-arts-phoenix-az
 /
URL:https://chasingchildhooddoc.com/events/raul-h-castro-academy-of-fine-arts-phoenix-az/
END:VEVENT
END:VCALENDAR