BEGIN:VCALENDAR
VERSION:2.0
PRODID:-//eventon.com NONSGML v1.0//EN
CALSCALE:GREGORIAN
METHOD:PUBLISH
BEGIN:VEVENT
UID:69ea3a8ab66fe
DTSTAMP:20260423T152810Z
DTSTART:20220905
DTEND:20220906
LOCATION:
SUMMARY:UC Santa Barbara (Santa Barbara\,  CA)
DESCRIPTION:UC Santa Barbara (Santa Barbara\,  CA)\nhttps://chasingchildhoo
 ddoc.com/events/uc-santa-barbara-santa-barbara-ca/
URL:https://chasingchildhooddoc.com/events/uc-santa-barbara-santa-barbara-ca/
END:VEVENT
END:VCALENDAR