BEGIN:VCALENDAR
VERSION:2.0
PRODID:-//eventon.com NONSGML v1.0//EN
CALSCALE:GREGORIAN
METHOD:PUBLISH
BEGIN:VEVENT
UID:69ea3a79ba1a9
DTSTAMP:20260423T152753Z
DTSTART:20220905
DTEND:20220906
LOCATION:
SUMMARY:Mental Health First Aid Israel (Hashmonaim\,  Israel)
DESCRIPTION:Mental Health First Aid Israel (Hashmonaim\,  Israel)\nhttps://
 chasingchildhooddoc.com/events/mental-health-first-aid-israel-hashmonaim-is
 rael/
URL:https://chasingchildhooddoc.com/events/mental-health-first-aid-israel-hashmonaim-israel/
END:VEVENT
END:VCALENDAR