BEGIN:VCALENDAR
VERSION:2.0
PRODID:-//eventon.com NONSGML v1.0//EN
CALSCALE:GREGORIAN
METHOD:PUBLISH
BEGIN:VEVENT
UID:69ea3a2780e5c
DTSTAMP:20260423T152631Z
DTSTART:20220903
DTEND:20220904
LOCATION:
SUMMARY:Florida International University (Miami\,  FL)
DESCRIPTION:Florida International University (Miami\,  FL)\nhttps://chasing
 childhooddoc.com/events/florida-international-university-miami-fl/
URL:https://chasingchildhooddoc.com/events/florida-international-university-miami-fl/
END:VEVENT
END:VCALENDAR