BEGIN:VCALENDAR
VERSION:2.0
PRODID:-//eventon.com NONSGML v1.0//EN
CALSCALE:GREGORIAN
METHOD:PUBLISH
BEGIN:VEVENT
UID:69ea3a78b81ff
DTSTAMP:20260423T152752Z
DTSTART:20220901
DTEND:20220902
LOCATION:
SUMMARY:Lagos State University Teaching Hospital (Lagos\,  Nigeria)
DESCRIPTION:Lagos State University Teaching Hospital (Lagos\,  Nigeria)\nht
 tps://chasingchildhooddoc.com/events/lagos-state-university-teaching-hospit
 al-lagos-nigeria/
URL:https://chasingchildhooddoc.com/events/lagos-state-university-teaching-hospital-lagos-nigeria/
END:VEVENT
END:VCALENDAR