BEGIN:VCALENDAR
VERSION:2.0
PRODID:-//eventon.com NONSGML v1.0//EN
CALSCALE:GREGORIAN
METHOD:PUBLISH
BEGIN:VEVENT
UID:69ea3a75e8aed
DTSTAMP:20260423T152749Z
DTSTART:20220827
DTEND:20220828
LOCATION:
SUMMARY:Pontificia Universidad Católica de Chile (Santiago\,  Chile)
DESCRIPTION:Pontificia Universidad Católica de Chile (Santiago\,  Chile)\n
 https://chasingchildhooddoc.com/events/pontificia-universidad-catolica-de-c
 hile-santiago-chile/
URL:https://chasingchildhooddoc.com/events/pontificia-universidad-catolica-de-chile-santiago-chile/
END:VEVENT
END:VCALENDAR