BEGIN:VCALENDAR
VERSION:2.0
PRODID:-//eventon.com NONSGML v1.0//EN
CALSCALE:GREGORIAN
METHOD:PUBLISH
BEGIN:VEVENT
UID:69ea3a5137b51
DTSTAMP:20260423T152713Z
DTSTART:20220826
DTEND:20220827
LOCATION:
SUMMARY:University of Kentucky (Lexington\,  KY)
DESCRIPTION:University of Kentucky (Lexington\,  KY)\nhttps://chasingchildh
 ooddoc.com/events/university-of-kentucky/
URL:https://chasingchildhooddoc.com/events/university-of-kentucky/
END:VEVENT
END:VCALENDAR