BEGIN:VCALENDAR
VERSION:2.0
PRODID:-//eventon.com NONSGML v1.0//EN
CALSCALE:GREGORIAN
METHOD:PUBLISH
BEGIN:VEVENT
UID:69ea3a4f2b0f1
DTSTAMP:20260423T152711Z
DTSTART:20220826
DTEND:20220827
LOCATION:
SUMMARY:Northern Health Region (Thompson\,  Manitoba\,  Canada)
DESCRIPTION:Northern Health Region (Thompson\,  Manitoba\,  Canada)\nhttps:
 //chasingchildhooddoc.com/events/northernhealthregion/
URL:https://chasingchildhooddoc.com/events/northernhealthregion/
END:VEVENT
END:VCALENDAR