BEGIN:VCALENDAR
VERSION:2.0
PRODID:-//eventon.com NONSGML v1.0//EN
CALSCALE:GREGORIAN
METHOD:PUBLISH
BEGIN:VEVENT
UID:69ea3a9d02ab4
DTSTAMP:20260423T152829Z
DTSTART:20220826
DTEND:20220827
LOCATION:
SUMMARY:Phoenix Academy/Anne Arundel County Public Schools (Annapolis\,  MD)
DESCRIPTION:Phoenix Academy/Anne Arundel County Public Schools (Annapolis\,
   MD)\nhttps://chasingchildhooddoc.com/events/arundelcounty/
URL:https://chasingchildhooddoc.com/events/arundelcounty/
END:VEVENT
END:VCALENDAR