BEGIN:VCALENDAR
VERSION:2.0
PRODID:-//eventon.com NONSGML v1.0//EN
CALSCALE:GREGORIAN
METHOD:PUBLISH
BEGIN:VEVENT
UID:69ea3a72b9ff9
DTSTAMP:20260423T152746Z
DTSTART:20220822
DTEND:20220823
LOCATION:
SUMMARY:Independent Practice (London\,  UK)
DESCRIPTION:Independent Practice (London\,  UK)\nhttps://chasingchildhooddo
 c.com/events/indpractice/
URL:https://chasingchildhooddoc.com/events/indpractice/
END:VEVENT
END:VCALENDAR