BEGIN:VCALENDAR
VERSION:2.0
PRODID:-//eventon.com NONSGML v1.0//EN
CALSCALE:GREGORIAN
METHOD:PUBLISH
BEGIN:VEVENT
UID:69ea39e553a3e
DTSTAMP:20260423T152525Z
DTSTART:20221002
DTEND:20221003
LOCATION:
SUMMARY:Zero Plus International Film Festival (Tyumen\,  Russian Federation)
DESCRIPTION:MORE INFORMATION Chasing Childhood Screening Festival takes pla
 ce October 2–9\,  2022\,  screening date to be determined.\nhttps://chasi
 ngchildhooddoc.com/events/zero-plus-international-film-festival-tyumen-russ
 ian-federation/
URL:https://chasingchildhooddoc.com/events/zero-plus-international-film-festival-tyumen-russian-federation/
END:VEVENT
END:VCALENDAR