BEGIN:VCALENDAR
VERSION:2.0
PRODID:-//eventon.com NONSGML v1.0//EN
CALSCALE:GREGORIAN
METHOD:PUBLISH
BEGIN:VEVENT
UID:69ea39d95462e
DTSTAMP:20260423T152513Z
DTSTART:20220924T183000Z
DTEND:20220924T200000Z
LOCATION:
SUMMARY:Catalina Film Festival (Santa Catalina Island\,  CA)
DESCRIPTION:GET TICKETS HERE Chasing Childhood Screening Saturday\,  Septem
 ber 24 11:30 am PST\nhttps://chasingchildhooddoc.com/events/catalina-film-f
 estival-santa-catalina-island-ca/
URL:https://chasingchildhooddoc.com/events/catalina-film-festival-santa-catalina-island-ca/
END:VEVENT
END:VCALENDAR