BEGIN:VCALENDAR
VERSION:2.0
PRODID:-//eventon.com NONSGML v1.0//EN
CALSCALE:GREGORIAN
METHOD:PUBLISH
BEGIN:VEVENT
UID:69ea3a7326abb
DTSTAMP:20260423T152747Z
DTSTART:20220804
DTEND:20220805
LOCATION:
SUMMARY:San Antonio Film Festival (San Antonio\,  TX)
DESCRIPTION:Chasing Childhood screening Thursday August 4 10:00 am &#8211; 
 12:00 pm CT Radius Center 106 Auditorium Circle #120 San Antonio\,  Texas U
 nited States TICKETS here\nhttps://chasingchildhooddoc.com/events/san-anton
 io-filmfest/
URL:https://chasingchildhooddoc.com/events/san-antonio-filmfest/
END:VEVENT
END:VCALENDAR