BEGIN:VCALENDAR
VERSION:2.0
PRODID:-//eventon.com NONSGML v1.0//EN
CALSCALE:GREGORIAN
METHOD:PUBLISH
BEGIN:VEVENT
UID:69ea3a0d8323f
DTSTAMP:20260423T152605Z
DTSTART:20220510T040000Z
DTEND:20220511T035900Z
LOCATION:
SUMMARY:Woodland High School (Marble Hill\,  MO)
DESCRIPTION:Woodland High School (Marble Hill\,  MO)\nhttps://chasingchildh
 ooddoc.com/events/woodlandhs/
URL:https://chasingchildhooddoc.com/events/woodlandhs/
END:VEVENT
END:VCALENDAR