BEGIN:VCALENDAR
VERSION:2.0
PRODID:-//eventon.com NONSGML v1.0//EN
CALSCALE:GREGORIAN
METHOD:PUBLISH
BEGIN:VEVENT
UID:69ea39e1dc132
DTSTAMP:20260423T152521Z
DTSTART:20220616T040000Z
DTEND:20220617T035900Z
LOCATION:Helena\,  MT 322 Fuller Ave\,  Helena\,  MT 59601
SUMMARY:Acton Academy Lincoln (Lincoln\,  NE)
DESCRIPTION:Acton Academy Lincoln (Lincoln\,  NE)\nhttps://chasingchildhood
 doc.com/events/actonne/
URL:https://chasingchildhooddoc.com/events/actonne/
END:VEVENT
END:VCALENDAR