BEGIN:VCALENDAR
VERSION:2.0
PRODID:-//eventon.com NONSGML v1.0//EN
CALSCALE:GREGORIAN
METHOD:PUBLISH
BEGIN:VEVENT
UID:69ea3a2bcb92f
DTSTAMP:20260423T152635Z
DTSTART:20220518T040000Z
DTEND:20220519T035900Z
LOCATION:
SUMMARY:Horizon Hills Parent Education Program (Thousand Oaks\,  CA)
DESCRIPTION:Horizon Hills Parent Education Program (Thousand Oaks\,  CA)\nh
 ttps://chasingchildhooddoc.com/events/horizonhills/
URL:https://chasingchildhooddoc.com/events/horizonhills/
END:VEVENT
END:VCALENDAR