BEGIN:VCALENDAR
VERSION:2.0
PRODID:-//eventon.com NONSGML v1.0//EN
CALSCALE:GREGORIAN
METHOD:PUBLISH
BEGIN:VEVENT
UID:69ea3a2c3d96f
DTSTAMP:20260423T152636Z
DTSTART:20220502T040000Z
DTEND:20220503T035900Z
LOCATION:
SUMMARY:Kinderhaus (Brooklyn\,  NY)
DESCRIPTION:Kinderhaus (Brooklyn\,  NY)\nhttps://chasingchildhooddoc.com/ev
 ents/kinderhaus-brooklyn-ny/
URL:https://chasingchildhooddoc.com/events/kinderhaus-brooklyn-ny/
END:VEVENT
END:VCALENDAR