BEGIN:VCALENDAR
VERSION:2.0
PRODID:-//eventon.com NONSGML v1.0//EN
CALSCALE:GREGORIAN
METHOD:PUBLISH
BEGIN:VEVENT
UID:69ea3a537c7a6
DTSTAMP:20260423T152715Z
DTSTART:20220617T040000Z
DTEND:20220618T035900Z
LOCATION:
SUMMARY:New York City Independent Film Festival (New York\,  NY)
DESCRIPTION:Tickets for Chasing Childhood here: https://nycindieff.com/sess
 ion/documentary-10/ Friday June 17\,  2022 8:00 PM\nhttps://chasingchildhoo
 ddoc.com/events/nyciff22/
URL:https://chasingchildhooddoc.com/events/nyciff22/
END:VEVENT
END:VCALENDAR