BEGIN:VCALENDAR
VERSION:2.0
PRODID:-//eventon.com NONSGML v1.0//EN
CALSCALE:GREGORIAN
METHOD:PUBLISH
BEGIN:VEVENT
UID:69ea3a2e0e87a
DTSTAMP:20260423T152638Z
DTSTART:20220610T040000Z
DTEND:20220611T035900Z
LOCATION:
SUMMARY:California Capital International Documentary Film Festival (Rancho Cordova\,  CA)
DESCRIPTION:Chasing Childhood screens on June 10th at 5:00 pm PST. Buy tick
 ets at: http://www.calcapdocfest.org/films/chasing-childhood &nbsp; &nbsp; 
 &nbsp;\nhttps://chasingchildhooddoc.com/events/californiacapital/
URL:https://chasingchildhooddoc.com/events/californiacapital/
END:VEVENT
END:VCALENDAR