BEGIN:VCALENDAR
VERSION:2.0
PRODID:-//eventon.com NONSGML v1.0//EN
CALSCALE:GREGORIAN
METHOD:PUBLISH
BEGIN:VEVENT
UID:69ea3a2d7f018
DTSTAMP:20260423T152637Z
DTSTART:20201111
DTEND:20201112
LOCATION:NYC
SUMMARY:DOCNYC (New York\,  NY)
DESCRIPTION:DOCNYC (New York\,  NY)\nhttps://chasingchildhooddoc.com/events
 /docnyc-new-york-ny/
URL:https://chasingchildhooddoc.com/events/docnyc-new-york-ny/
END:VEVENT
END:VCALENDAR