BEGIN:VCALENDAR
VERSION:2.0
PRODID:-//eventon.com NONSGML v1.0//EN
CALSCALE:GREGORIAN
METHOD:PUBLISH
BEGIN:VEVENT
UID:69ea39d1d073e
DTSTAMP:20260423T152505Z
DTSTART:20201104T000000Z
DTEND:20201104T235900Z
LOCATION:
SUMMARY:IndieFest Film Awards (La Jolla\,  CA)
DESCRIPTION:AWARD OF MERIT SPECIAL MENTION\nhttps://chasingchildhooddoc.com
 /events/indiefest-film-awards-la-jolla-ca/
URL:https://chasingchildhooddoc.com/events/indiefest-film-awards-la-jolla-ca/
END:VEVENT
END:VCALENDAR