BEGIN:VCALENDAR
VERSION:2.0
PRODID:-//eventon.com NONSGML v1.0//EN
CALSCALE:GREGORIAN
METHOD:PUBLISH
BEGIN:VEVENT
UID:69ea3a0ad4dd0
DTSTAMP:20260423T152602Z
DTSTART:20210305T000000Z
DTEND:20210314T235900Z
LOCATION:
SUMMARY:44th Portland International Film Festival (Portland\,  OR)
DESCRIPTION:44th Portland International Film Festival (Portland\,  OR)\nhtt
 ps://chasingchildhooddoc.com/events/44th-portland-international-film-festiv
 al-portland-or/
URL:https://chasingchildhooddoc.com/events/44th-portland-international-film-festival-portland-or/
END:VEVENT
END:VCALENDAR