BEGIN:VCALENDAR
VERSION:2.0
PRODID:-//eventon.com NONSGML v1.0//EN
CALSCALE:GREGORIAN
METHOD:PUBLISH
BEGIN:VEVENT
UID:69ea39e27e156
DTSTAMP:20260423T152522Z
DTSTART:20210407T000000Z
DTEND:20210420T235900Z
LOCATION:
SUMMARY:45th Cleveland International Film Festival (Cleveland\,  OH)
DESCRIPTION:45th Cleveland International Film Festival (Cleveland\,  OH)\nh
 ttps://chasingchildhooddoc.com/events/45th-cleveland-international-film-fes
 tival-cleveland-oh/
URL:https://chasingchildhooddoc.com/events/45th-cleveland-international-film-festival-cleveland-oh/
END:VEVENT
END:VCALENDAR