BEGIN:VCALENDAR
VERSION:2.0
PRODID:-//eventon.com NONSGML v1.0//EN
CALSCALE:GREGORIAN
METHOD:PUBLISH
BEGIN:VEVENT
UID:69ea3a2d04383
DTSTAMP:20260423T152637Z
DTSTART:20210408T000000Z
DTEND:20210418T235900Z
LOCATION:
SUMMARY:Annapolis Film Festival (Annapolis\,  MD)
DESCRIPTION:Annapolis Film Festival (Annapolis\,  MD)\nhttps://chasingchild
 hooddoc.com/events/annapolis-film-festival-annapolis-md/
URL:https://chasingchildhooddoc.com/events/annapolis-film-festival-annapolis-md/
END:VEVENT
END:VCALENDAR