BEGIN:VCALENDAR
VERSION:2.0
PRODID:-//eventon.com NONSGML v1.0//EN
CALSCALE:GREGORIAN
METHOD:PUBLISH
BEGIN:VEVENT
UID:69ea39c9aaaf5
DTSTAMP:20260423T152457Z
DTSTART:20210605T000000Z
DTEND:20210609T235900Z
LOCATION:
SUMMARY:Harlem International Film Festival (New York\,  NY)
DESCRIPTION:Harlem International Film Festival (New York\,  NY)\nhttps://ch
 asingchildhooddoc.com/events/harlem-international-film-festival-new-york-ny
 /
URL:https://chasingchildhooddoc.com/events/harlem-international-film-festival-new-york-ny/
END:VEVENT
END:VCALENDAR