BEGIN:VCALENDAR
VERSION:2.0
PRODID:-//eventon.com NONSGML v1.0//EN
CALSCALE:GREGORIAN
METHOD:PUBLISH
BEGIN:VEVENT
UID:69ea39ce96b19
DTSTAMP:20260423T152502Z
DTSTART:20210603T000000Z
DTEND:20210617T235900Z
LOCATION:
SUMMARY:San Francisco DocFest (San Francisco\,  CA)
DESCRIPTION:San Francisco DocFest (San Francisco\,  CA)\nhttps://chasingchi
 ldhooddoc.com/events/san-francisco-docfest-san-francisco-ca/
URL:https://chasingchildhooddoc.com/events/san-francisco-docfest-san-francisco-ca/
END:VEVENT
END:VCALENDAR