BEGIN:VCALENDAR
VERSION:2.0
PRODID:-//eventon.com NONSGML v1.0//EN
CALSCALE:GREGORIAN
METHOD:PUBLISH
BEGIN:VEVENT
UID:69ea3a0ddad0b
DTSTAMP:20260423T152605Z
DTSTART:20210609T000000Z
DTEND:20210619T235900Z
LOCATION:
SUMMARY:DOCVILLE - International Documentary Film Festival (Leuven\,  Belgium)
DESCRIPTION:DOCVILLE - International Documentary Film Festival (Leuven\,  B
 elgium)\nhttps://chasingchildhooddoc.com/events/docville-international-docu
 mentary-film-festival-leuven-belgium/
URL:https://chasingchildhooddoc.com/events/docville-international-documentary-film-festival-leuven-belgium/
END:VEVENT
END:VCALENDAR