BEGIN:VCALENDAR
VERSION:2.0
PRODID:-//eventon.com NONSGML v1.0//EN
CALSCALE:GREGORIAN
METHOD:PUBLISH
BEGIN:VEVENT
UID:69ea39cd202f2
DTSTAMP:20260423T152501Z
DTSTART:20210612T000000Z
DTEND:20210620T235900Z
LOCATION:
SUMMARY:Sedona International Film Festival (Sedona\,  AZ)
DESCRIPTION:Sedona International Film Festival (Sedona\,  AZ)\nhttps://chas
 ingchildhooddoc.com/events/sedona-international-film-festival-sedona-az/
URL:https://chasingchildhooddoc.com/events/sedona-international-film-festival-sedona-az/
END:VEVENT
END:VCALENDAR