BEGIN:VCALENDAR
VERSION:2.0
PRODID:-//eventon.com NONSGML v1.0//EN
CALSCALE:GREGORIAN
METHOD:PUBLISH
BEGIN:VEVENT
UID:69ea39dff01b9
DTSTAMP:20260423T152519Z
DTSTART:20210624T000000Z
DTEND:20210704T235900Z
LOCATION:
SUMMARY:Thessaloniki Documentary Film Festival (Thessaloniki\,  Greece)
DESCRIPTION:Thessaloniki Documentary Film Festival (Thessaloniki\,  Greece)
 \nhttps://chasingchildhooddoc.com/events/thessaloniki-documentary-film-fest
 ival-thessaloniki-greece/
URL:https://chasingchildhooddoc.com/events/thessaloniki-documentary-film-festival-thessaloniki-greece/
END:VEVENT
END:VCALENDAR