BEGIN:VCALENDAR
VERSION:2.0
PRODID:-//eventon.com NONSGML v1.0//EN
CALSCALE:GREGORIAN
METHOD:PUBLISH
BEGIN:VEVENT
UID:69ea39dd44828
DTSTAMP:20260423T152517Z
DTSTART:20210809T000000Z
DTEND:20210815T235900Z
LOCATION:
SUMMARY:Flickers Rhode Island International Film Festival (Providence\,  RI)
DESCRIPTION:Flickers Rhode Island International Film Festival (Providence\,
   RI)\nhttps://chasingchildhooddoc.com/events/flickers-rhode-island-interna
 tional-film-festival-providence-ri/
URL:https://chasingchildhooddoc.com/events/flickers-rhode-island-international-film-festival-providence-ri/
END:VEVENT
END:VCALENDAR