BEGIN:VCALENDAR
VERSION:2.0
PRODID:-//eventon.com NONSGML v1.0//EN
CALSCALE:GREGORIAN
METHOD:PUBLISH
BEGIN:VEVENT
UID:69ea3a2d45fe7
DTSTAMP:20260423T152637Z
DTSTART:20210808T000000Z
DTEND:20210815T235900Z
LOCATION:
SUMMARY:New Haven Docs Festival (New Haven\,  CT)
DESCRIPTION:New Haven Docs Festival (New Haven\,  CT)\nhttps://chasingchild
 hooddoc.com/events/new-haven-docs-festival-new-haven-ct/
URL:https://chasingchildhooddoc.com/events/new-haven-docs-festival-new-haven-ct/
END:VEVENT
END:VCALENDAR