BEGIN:VCALENDAR
VERSION:2.0
PRODID:-//eventon.com NONSGML v1.0//EN
CALSCALE:GREGORIAN
METHOD:PUBLISH
BEGIN:VEVENT
UID:69ea39e5c4f93
DTSTAMP:20260423T152525Z
DTSTART:20210906T000000Z
DTEND:20210912T235900Z
LOCATION:
SUMMARY:Milwaukee Film Cultures & Communities Festival (Milwaukee\,  WI)
DESCRIPTION:Milwaukee Film Cultures &#038; Communities Festival (Milwaukee\
 ,  WI)\nhttps://chasingchildhooddoc.com/events/milwaukee-film-cultures-comm
 unities-festival-milwaukee-wi/
URL:https://chasingchildhooddoc.com/events/milwaukee-film-cultures-communities-festival-milwaukee-wi/
END:VEVENT
END:VCALENDAR