BEGIN:VCALENDAR
VERSION:2.0
PRODID:-//eventon.com NONSGML v1.0//EN
CALSCALE:GREGORIAN
METHOD:PUBLISH
BEGIN:VEVENT
UID:69ea3aceecc26
DTSTAMP:20260423T152918Z
DTSTART:20210909T000000Z
DTEND:20210913T235900Z
LOCATION:
SUMMARY:Berkshire International Film Festival (Great Barrington\,  MA)
DESCRIPTION:Berkshire International Film Festival (Great Barrington\,  MA)\
 nhttps://chasingchildhooddoc.com/events/berkshire-international-film-festiv
 al-great-barrington-ma/
URL:https://chasingchildhooddoc.com/events/berkshire-international-film-festival-great-barrington-ma/
END:VEVENT
END:VCALENDAR