BEGIN:VCALENDAR
VERSION:2.0
PRODID:-//eventon.com NONSGML v1.0//EN
CALSCALE:GREGORIAN
METHOD:PUBLISH
BEGIN:VEVENT
UID:69ea3a117880a
DTSTAMP:20260423T152609Z
DTSTART:20210923T000000Z
DTEND:20211003T235900Z
LOCATION:
SUMMARY:Calgary International Film Festival (Calgary\,  Canada)
DESCRIPTION:Calgary International Film Festival (Calgary\,  Canada)\nhttps:
 //chasingchildhooddoc.com/events/calgary-international-film-festival-calgar
 y-canada/
URL:https://chasingchildhooddoc.com/events/calgary-international-film-festival-calgary-canada/
END:VEVENT
END:VCALENDAR