BEGIN:VCALENDAR
VERSION:2.0
PRODID:-//eventon.com NONSGML v1.0//EN
CALSCALE:GREGORIAN
METHOD:PUBLISH
BEGIN:VEVENT
UID:69ea3a1146151
DTSTAMP:20260423T152609Z
DTSTART:20210924T000000Z
DTEND:20210926T235900Z
LOCATION:
SUMMARY:Vail Film Festival (Vail\,  CO)
DESCRIPTION:Vail Film Festival (Vail\,  CO)\nhttps://chasingchildhooddoc.co
 m/events/vail-film-festival-vail-co/
URL:https://chasingchildhooddoc.com/events/vail-film-festival-vail-co/
END:VEVENT
END:VCALENDAR