BEGIN:VCALENDAR
VERSION:2.0
PRODID:-//eventon.com NONSGML v1.0//EN
CALSCALE:GREGORIAN
METHOD:PUBLISH
BEGIN:VEVENT
UID:69ea3a537c7a9
DTSTAMP:20260423T152715Z
DTSTART:20211020T000000Z
DTEND:20211024T235900Z
LOCATION:
SUMMARY:Tallgrass Film Festival (Wichita\,  KS)
DESCRIPTION:Tallgrass Film Festival (Wichita\,  KS)\nhttps://chasingchildho
 oddoc.com/events/tallgrass-film-festival-wichita-ks/
URL:https://chasingchildhooddoc.com/events/tallgrass-film-festival-wichita-ks/
END:VEVENT
END:VCALENDAR