BEGIN:VCALENDAR
VERSION:2.0
PRODID:-//eventon.com NONSGML v1.0//EN
CALSCALE:GREGORIAN
METHOD:PUBLISH
BEGIN:VEVENT
UID:69ea39dcba8cf
DTSTAMP:20260423T152516Z
DTSTART:20211021T000000Z
DTEND:20211030T235900Z
LOCATION:
SUMMARY:Twin Cities Film Festival (Louis Park\,  MN)
DESCRIPTION:Twin Cities Film Festival (Louis Park\,  MN)\nhttps://chasingch
 ildhooddoc.com/events/twin-cities-film-festival-louis-park-mn/
URL:https://chasingchildhooddoc.com/events/twin-cities-film-festival-louis-park-mn/
END:VEVENT
END:VCALENDAR