BEGIN:VCALENDAR
VERSION:2.0
PRODID:-//eventon.com NONSGML v1.0//EN
CALSCALE:GREGORIAN
METHOD:PUBLISH
BEGIN:VEVENT
UID:69ea3a0f86051
DTSTAMP:20260423T152607Z
DTSTART:20211104T000000Z
DTEND:20201114T235900Z
LOCATION:
SUMMARY:Cinequest Film and VR Festival (San Jose\,  CA)
DESCRIPTION:Cinequest Film and VR Festival (San Jose\,  CA)\nhttps://chasin
 gchildhooddoc.com/events/cinequest-film-and-vr-festival-san-jose-ca/
URL:https://chasingchildhooddoc.com/events/cinequest-film-and-vr-festival-san-jose-ca/
END:VEVENT
END:VCALENDAR