BEGIN:VCALENDAR
VERSION:2.0
PRODID:-//eventon.com NONSGML v1.0//EN
CALSCALE:GREGORIAN
METHOD:PUBLISH
BEGIN:VEVENT
UID:69ea3a2aed5be
DTSTAMP:20260423T152634Z
DTSTART:20211105T000000Z
DTEND:20211121T235900Z
LOCATION:
SUMMARY:Fort Lauderdale International Film Festival (Fort Lauderdale\,  FL)
DESCRIPTION:Fort Lauderdale International Film Festival (Fort Lauderdale\, 
  FL)\nhttps://chasingchildhooddoc.com/events/fort-lauderdale-international-
 film-festival-fort-lauderdale-fl/
URL:https://chasingchildhooddoc.com/events/fort-lauderdale-international-film-festival-fort-lauderdale-fl/
END:VEVENT
END:VCALENDAR