BEGIN:VCALENDAR
VERSION:2.0
PRODID:-//eventon.com NONSGML v1.0//EN
CALSCALE:GREGORIAN
METHOD:PUBLISH
BEGIN:VEVENT
UID:69ea39e4e0fd9
DTSTAMP:20260423T152524Z
DTSTART:20211128T000000Z
DTEND:20211128T235900Z
LOCATION:
SUMMARY:CineDoc Festival (Athens\,  Greece)
DESCRIPTION:CineDoc Festival (Athens\,  Greece)\nhttps://chasingchildhooddo
 c.com/events/cinedoc-festival-athens-greece/
URL:https://chasingchildhooddoc.com/events/cinedoc-festival-athens-greece/
END:VEVENT
END:VCALENDAR