BEGIN:VCALENDAR
VERSION:2.0
PRODID:-//eventon.com NONSGML v1.0//EN
CALSCALE:GREGORIAN
METHOD:PUBLISH
BEGIN:VEVENT
UID:69ea3a2aabf9a
DTSTAMP:20260423T152634Z
DTSTART:20220223T000000Z
DTEND:20220223T235900Z
LOCATION:Stone Mountain\,  GA Stone Mountain\,  GA
SUMMARY:Dekalb County Schools (Stone Mountain\,  GA)
DESCRIPTION:Dekalb County Schools (Stone Mountain\,  GA)\nhttps://chasingch
 ildhooddoc.com/events/dekalb-county-schools-stone-mountain-ga-2/
URL:https://chasingchildhooddoc.com/events/dekalb-county-schools-stone-mountain-ga-2/
END:VEVENT
END:VCALENDAR