BEGIN:VCALENDAR
VERSION:2.0
PRODID:-//eventon.com NONSGML v1.0//EN
CALSCALE:GREGORIAN
METHOD:PUBLISH
BEGIN:VEVENT
UID:69ea3a0d2cef7
DTSTAMP:20260423T152605Z
DTSTART:20220324T000000Z
DTEND:20220324T235900Z
LOCATION:Santa Cruz\,  CA 411 Roxas St\,  Santa Cruz\,  CA 95062
SUMMARY:Santa Cruz Parent Education Nursery School (Santa Cruz\,  CA)
DESCRIPTION:Santa Cruz Parent Education Nursery School (Santa Cruz\,  CA)\n
 https://chasingchildhooddoc.com/events/santa-cruz-parent-education-nursery-
 school-santa-cruz-ca/
URL:https://chasingchildhooddoc.com/events/santa-cruz-parent-education-nursery-school-santa-cruz-ca/
END:VEVENT
END:VCALENDAR