BEGIN:VCALENDAR
VERSION:2.0
PRODID:-//eventon.com NONSGML v1.0//EN
CALSCALE:GREGORIAN
METHOD:PUBLISH
BEGIN:VEVENT
UID:69ea39e3a9095
DTSTAMP:20260423T152523Z
DTSTART:20220111T000000Z
DTEND:20220111T235900Z
LOCATION:Saratoga\,  CA 13601 Saratoga Ave\,  Saratoga\,  CA 95070
SUMMARY:Saint Andrew’s Episcopal School\,  Saratoga\,  CA
DESCRIPTION:Saint Andrew’s Episcopal School\,  Saratoga\,  CA\nhttps://ch
 asingchildhooddoc.com/events/saint-andrews-episcopal-school-saratoga-ca/
URL:https://chasingchildhooddoc.com/events/saint-andrews-episcopal-school-saratoga-ca/
END:VEVENT
END:VCALENDAR