BEGIN:VCALENDAR
VERSION:2.0
PRODID:-//eventon.com NONSGML v1.0//EN
CALSCALE:GREGORIAN
METHOD:PUBLISH
BEGIN:VEVENT
UID:69ea3a52bb89a
DTSTAMP:20260423T152714Z
DTSTART:20220204T000000Z
DTEND:20220204T235900Z
LOCATION:Los Gatos\,  CA 14855 Oka Rd #100\,  Los Gatos\,  CA 95032
SUMMARY:Hillbrook School (Los Gatos\,  CA)
DESCRIPTION:Hillbrook School (Los Gatos\,  CA)\nhttps://chasingchildhooddoc
 .com/events/hillbrook-school-los-gatos-ca/
URL:https://chasingchildhooddoc.com/events/hillbrook-school-los-gatos-ca/
END:VEVENT
END:VCALENDAR