BEGIN:VCALENDAR
VERSION:2.0
PRODID:-//eventon.com NONSGML v1.0//EN
CALSCALE:GREGORIAN
METHOD:PUBLISH
BEGIN:VEVENT
UID:69ea3a0c498c0
DTSTAMP:20260423T152604Z
DTSTART:20220204T000000Z
DTEND:20220204T235900Z
LOCATION:San Ramon\,  CA 699 Old Orchard Dr\,  Danville\,  CA 94526
SUMMARY:San Ramon Valley Council of PTAs (San Ramon\,  CA)
DESCRIPTION:San Ramon Valley Council of PTAs (San Ramon\,  CA)\nhttps://cha
 singchildhooddoc.com/events/san-ramon-valley-council-of-ptas-san-ramon-ca/
URL:https://chasingchildhooddoc.com/events/san-ramon-valley-council-of-ptas-san-ramon-ca/
END:VEVENT
END:VCALENDAR