BEGIN:VCALENDAR
VERSION:2.0
PRODID:-//eventon.com NONSGML v1.0//EN
CALSCALE:GREGORIAN
METHOD:PUBLISH
BEGIN:VEVENT
UID:69ea3a783d3e8
DTSTAMP:20260423T152752Z
DTSTART:20220124T000000Z
DTEND:20220124T235900Z
LOCATION:Downington\,  PA 122 Wallace Ave\,  Downingtown\,  PA 19335
SUMMARY:Downingtown School District and Downingtown Communities That Care (Downingtown\,  PA)
DESCRIPTION:Downingtown School District and Downingtown Communities That Ca
 re (Downingtown\,  PA)\nhttps://chasingchildhooddoc.com/events/downingtown-
 school-district-and-downingtown-communities-that-care-downingtown-pa/
URL:https://chasingchildhooddoc.com/events/downingtown-school-district-and-downingtown-communities-that-care-downingtown-pa/
END:VEVENT
END:VCALENDAR