BEGIN:VCALENDAR
VERSION:2.0
PRODID:-//eventon.com NONSGML v1.0//EN
CALSCALE:GREGORIAN
METHOD:PUBLISH
BEGIN:VEVENT
UID:69ea39e5ee944
DTSTAMP:20260423T152525Z
DTSTART:20211214T000000Z
DTEND:20211214T235900Z
LOCATION:Aquebogue\,  NY 269 Main Rd\,  Aquebogue\,  NY 11931
SUMMARY:Peconic Community School\,  NY (Aquebogue\,  NY)
DESCRIPTION:Peconic Community School\,  NY (Aquebogue\,  NY)\nhttps://chasi
 ngchildhooddoc.com/events/peconic-community-school-ny-aquebogue-ny/
URL:https://chasingchildhooddoc.com/events/peconic-community-school-ny-aquebogue-ny/
END:VEVENT
END:VCALENDAR