BEGIN:VCALENDAR
VERSION:2.0
PRODID:-//eventon.com NONSGML v1.0//EN
CALSCALE:GREGORIAN
METHOD:PUBLISH
BEGIN:VEVENT
UID:69ea3a2767e86
DTSTAMP:20260423T152631Z
DTSTART:20220119T000000Z
DTEND:20220119T235900Z
LOCATION:New York\,  NY 27 Barrow St\,  New York\,  NY 10014
SUMMARY:Columbia Grammar and Preparatory School (New York\,  NY)
DESCRIPTION:Columbia Grammar and Preparatory School (New York\,  NY)\nhttps
 ://chasingchildhooddoc.com/events/columbia-grammar-and-preparatory-school-n
 ew-york-ny/
URL:https://chasingchildhooddoc.com/events/columbia-grammar-and-preparatory-school-new-york-ny/
END:VEVENT
END:VCALENDAR