BEGIN:VCALENDAR
VERSION:2.0
PRODID:-//eventon.com NONSGML v1.0//EN
CALSCALE:GREGORIAN
METHOD:PUBLISH
BEGIN:VEVENT
UID:69ea39c8b92ec
DTSTAMP:20260423T152456Z
DTSTART:20220114T000000Z
DTEND:20220114T235900Z
LOCATION:Medway\,  MA 26 High St\,  Medway\,  MA 02053
SUMMARY:Medway & Medfield Public Schools (Medway\,  MA)
DESCRIPTION:Medway &#038; Medfield Public Schools (Medway\,  MA)\nhttps://c
 hasingchildhooddoc.com/events/medway-medfield-public-schools-medway-ma/
URL:https://chasingchildhooddoc.com/events/medway-medfield-public-schools-medway-ma/
END:VEVENT
END:VCALENDAR