BEGIN:VCALENDAR
VERSION:2.0
PRODID:-//eventon.com NONSGML v1.0//EN
CALSCALE:GREGORIAN
METHOD:PUBLISH
BEGIN:VEVENT
UID:69ea39d6e349b
DTSTAMP:20260423T152510Z
DTSTART:20220113T000000Z
DTEND:20220113T235900Z
LOCATION:Belmont\,  CA 1201 6th Ave\,  Belmont\,  CA 94002
SUMMARY:Acton Academy of Silicon Valley (Belmont\,  CA)
DESCRIPTION:Acton Academy of Silicon Valley (Belmont\,  CA)\nhttps://chasin
 gchildhooddoc.com/events/acton-academy-of-silicon-valley-belmont-ca/
URL:https://chasingchildhooddoc.com/events/acton-academy-of-silicon-valley-belmont-ca/
END:VEVENT
END:VCALENDAR